BEGIN:VCALENDAR
VERSION:2.0
PRODID:-//wp-events-plugin.com//7.2.3.1//EN
TZID:America/Toronto
X-WR-TIMEZONE:America/Toronto
BEGIN:VEVENT
UID:266@uxbridgeyouthcentre.com
DTSTART;TZID=America/Toronto:20260421T154500
DTEND;TZID=America/Toronto:20260421T170000
DTSTAMP:20260120T221036Z
URL:https://uxbridgeyouthcentre.com/events/diy-daze-2026-02-10-2026-02-24-
 2026-03-10-2026-03-24-2026-04-07-2026-04-21/
SUMMARY:DIY Daze
DESCRIPTION:Join us for an afternoon of fun during our free arts & crafts w
 orkshop!
ATTACH;FMTTYPE=image/jpeg:https://uxbridgeyouthcentre.com/wp-content/uploa
 ds/2021/09/DIY-Daze-2021-500x500-1.png
CATEGORIES:DIY Daze
LOCATION:Uxbridge Youth Centre\, 75 Marietta Street\, Uxbridge\, Ontario\, 
 Canada
X-APPLE-STRUCTURED-LOCATION;VALUE=URI;X-ADDRESS=75 Marietta Street\, Uxbrid
 ge\, Ontario\, Canada;X-APPLE-RADIUS=100;X-TITLE=Uxbridge Youth Centre:geo
 :0,0
END:VEVENT
BEGIN:VTIMEZONE
TZID:America/Toronto
X-LIC-LOCATION:America/Toronto
BEGIN:DAYLIGHT
DTSTART:20260308T030000
TZOFFSETFROM:-0500
TZOFFSETTO:-0400
TZNAME:EDT
END:DAYLIGHT
END:VTIMEZONE
END:VCALENDAR