BEGIN:VCALENDAR
VERSION:2.0
PRODID:-//wp-events-plugin.com//7.2.3.1//EN
TZID:America/Toronto
X-WR-TIMEZONE:America/Toronto
BEGIN:VEVENT
UID:440@uxbridgeyouthcentre.com
DTSTART;TZID=America/Toronto:20260619T160000
DTEND;TZID=America/Toronto:20260619T170000
DTSTAMP:20260310T213314Z
URL:https://uxbridgeyouthcentre.com/events/puzzles-illusions-2026-03-06-20
 26-03-13-2026-03-20-2026-03-27-2026-04-03-2026-04-10-2026-04-17-2026-04-24
 -2026-05-01-2026-05-08-2026-05-15-2026-05-22-2026-05-29-2026-06-05-2026-06
 -12-2026-06-19/
SUMMARY:Puzzles & Illusions
DESCRIPTION:Join us for an afternoon of Puzzles & Illusions!
ATTACH;FMTTYPE=image/jpeg:https://uxbridgeyouthcentre.com/wp-content/uploa
 ds/2026/03/PuzzlesAndIllusions500x500v1.png
CATEGORIES:Codes &amp; Puzzles
LOCATION:Uxbridge Youth Centre\, 75 Marietta Street\, Uxbridge\, Ontario\, 
 Canada
X-APPLE-STRUCTURED-LOCATION;VALUE=URI;X-ADDRESS=75 Marietta Street\, Uxbrid
 ge\, Ontario\, Canada;X-APPLE-RADIUS=100;X-TITLE=Uxbridge Youth Centre:geo
 :0,0
END:VEVENT
BEGIN:VTIMEZONE
TZID:America/Toronto
X-LIC-LOCATION:America/Toronto
BEGIN:DAYLIGHT
DTSTART:20260308T030000
TZOFFSETFROM:-0500
TZOFFSETTO:-0400
TZNAME:EDT
END:DAYLIGHT
END:VTIMEZONE
END:VCALENDAR